Package: CircSeqAlignTk Version: 1.8.0 Command: /Library/Frameworks/R.framework/Resources/bin/R CMD check --install=check:CircSeqAlignTk.install-out.txt --library=/Library/Frameworks/R.framework/Resources/library --no-vignettes --timings CircSeqAlignTk_1.8.0.tar.gz StartedAt: 2025-02-04 14:52:40 -0500 (Tue, 04 Feb 2025) EndedAt: 2025-02-04 14:59:58 -0500 (Tue, 04 Feb 2025) EllapsedTime: 438.0 seconds RetCode: 0 Status: OK CheckDir: CircSeqAlignTk.Rcheck Warnings: 0