Package: CircSeqAlignTk Version: 1.8.0 Command: /Library/Frameworks/R.framework/Resources/bin/R CMD INSTALL CircSeqAlignTk StartedAt: 2025-02-03 16:45:00 -0500 (Mon, 03 Feb 2025) EndedAt: 2025-02-03 16:45:52 -0500 (Mon, 03 Feb 2025) EllapsedTime: 51.7 seconds RetCode: 0 Status: OK