Package: CircSeqAlignTk Version: 1.8.0 Command: rm -rf CircSeqAlignTk.buildbin-libdir && mkdir CircSeqAlignTk.buildbin-libdir && /Users/biocbuild/BBS/utils/build-universal.sh CircSeqAlignTk_1.8.0.tar.gz /Library/Frameworks/R.framework/Resources/bin/R CircSeqAlignTk.buildbin-libdir StartedAt: 2025-02-04 12:39:59 -0500 (Tue, 04 Feb 2025) EndedAt: 2025-02-04 12:41:36 -0500 (Tue, 04 Feb 2025) EllapsedTime: 97.0 seconds RetCode: 0 Status: OK PackageFile: CircSeqAlignTk_1.8.0.tgz PackageFileSize: 1.992 MiB