Package: CircSeqAlignTk Version: 1.8.0 Command: /home/biocbuild/bbs-3.20-bioc/R/bin/R CMD INSTALL CircSeqAlignTk StartedAt: 2025-02-03 15:41:52 -0500 (Mon, 03 Feb 2025) EndedAt: 2025-02-03 15:42:39 -0500 (Mon, 03 Feb 2025) EllapsedTime: 47.8 seconds RetCode: 0 Status: OK