Package: CircSeqAlignTk Version: 1.8.0 Command: rm -rf CircSeqAlignTk.buildbin-libdir && mkdir CircSeqAlignTk.buildbin-libdir && F:\biocbuild\bbs-3.20-bioc\R\bin\R.exe CMD INSTALL --build --library=CircSeqAlignTk.buildbin-libdir CircSeqAlignTk_1.8.0.tar.gz StartedAt: 2025-02-04 08:12:31 -0500 (Tue, 04 Feb 2025) EndedAt: 2025-02-04 08:14:07 -0500 (Tue, 04 Feb 2025) EllapsedTime: 96.4 seconds RetCode: 0 Status: OK PackageFile: CircSeqAlignTk_1.8.0.zip PackageFileSize: 1.504 MiB