Package: CircSeqAlignTk Version: 1.8.0 Command: F:\biocbuild\bbs-3.20-bioc\R\bin\R.exe CMD INSTALL CircSeqAlignTk StartedAt: 2025-02-03 17:05:32 -0500 (Mon, 03 Feb 2025) EndedAt: 2025-02-03 17:06:40 -0500 (Mon, 03 Feb 2025) EllapsedTime: 67.7 seconds RetCode: 0 Status: OK