Package: CircSeqAlignTk Version: 1.8.0 Command: /home/biocbuild/R/R/bin/R CMD check --install=check:CircSeqAlignTk.install-out.txt --library=/home/biocbuild/R/R/site-library --no-vignettes --timings CircSeqAlignTk_1.8.0.tar.gz StartedAt: 2025-02-04 05:38:18 -0000 (Tue, 04 Feb 2025) EndedAt: 2025-02-04 05:45:13 -0000 (Tue, 04 Feb 2025) EllapsedTime: 414.3 seconds RetCode: 0 Status: OK CheckDir: CircSeqAlignTk.Rcheck Warnings: 0