Package: CircSeqAlignTk Version: 1.8.0 Command: /home/biocbuild/R/R/bin/R CMD INSTALL CircSeqAlignTk StartedAt: 2025-02-03 20:56:16 -0000 (Mon, 03 Feb 2025) EndedAt: 2025-02-03 20:57:11 -0000 (Mon, 03 Feb 2025) EllapsedTime: 55.7 seconds RetCode: 0 Status: OK