Package: CiteFuse Version: 1.18.0 Command: /Library/Frameworks/R.framework/Resources/bin/R CMD INSTALL CiteFuse StartedAt: 2025-02-03 17:47:58 -0500 (Mon, 03 Feb 2025) EndedAt: 2025-02-03 17:48:49 -0500 (Mon, 03 Feb 2025) EllapsedTime: 51.2 seconds RetCode: 0 Status: OK