Package: CiteFuse Version: 1.18.0 Command: rm -rf CiteFuse.buildbin-libdir && mkdir CiteFuse.buildbin-libdir && /Users/biocbuild/BBS/utils/build-universal.sh CiteFuse_1.18.0.tar.gz /Library/Frameworks/R.framework/Resources/bin/R CiteFuse.buildbin-libdir StartedAt: 2025-02-04 12:40:01 -0500 (Tue, 04 Feb 2025) EndedAt: 2025-02-04 12:41:43 -0500 (Tue, 04 Feb 2025) EllapsedTime: 101.5 seconds RetCode: 0 Status: OK PackageFile: CiteFuse_1.18.0.tgz PackageFileSize: 3.556 MiB