Package: CiteFuse Version: 1.18.0 Command: /Library/Frameworks/R.framework/Resources/bin/R CMD build --keep-empty-dirs --no-resave-data CiteFuse StartedAt: 2025-02-03 17:53:03 -0500 (Mon, 03 Feb 2025) EndedAt: 2025-02-03 17:58:35 -0500 (Mon, 03 Feb 2025) EllapsedTime: 332.5 seconds RetCode: 0 Status: OK PackageFile: CiteFuse_1.18.0.tar.gz PackageFileSize: 3.339 MiB