Package: CiteFuse Version: 1.18.0 Command: /Library/Frameworks/R.framework/Resources/bin/R CMD INSTALL CiteFuse StartedAt: 2025-02-03 16:38:08 -0500 (Mon, 03 Feb 2025) EndedAt: 2025-02-03 16:39:46 -0500 (Mon, 03 Feb 2025) EllapsedTime: 98.4 seconds RetCode: 0 Status: OK