Package: CiteFuse Version: 1.18.0 Command: /home/biocbuild/bbs-3.20-bioc/R/bin/R CMD check --install=check:CiteFuse.install-out.txt --library=/home/biocbuild/bbs-3.20-bioc/R/site-library --timings CiteFuse_1.18.0.tar.gz StartedAt: 2025-02-03 21:00:36 -0500 (Mon, 03 Feb 2025) EndedAt: 2025-02-03 21:06:36 -0500 (Mon, 03 Feb 2025) EllapsedTime: 359.4 seconds RetCode: 0 Status: OK CheckDir: CiteFuse.Rcheck Warnings: 0