Package: CiteFuse Version: 1.18.0 Command: /home/biocbuild/bbs-3.20-bioc/R/bin/R CMD INSTALL CiteFuse StartedAt: 2025-02-03 16:02:23 -0500 (Mon, 03 Feb 2025) EndedAt: 2025-02-03 16:03:13 -0500 (Mon, 03 Feb 2025) EllapsedTime: 50.5 seconds RetCode: 0 Status: OK