Package: CiteFuse Version: 1.18.0 Command: F:\biocbuild\bbs-3.20-bioc\R\bin\R.exe CMD INSTALL CiteFuse StartedAt: 2025-01-30 16:50:23 -0500 (Thu, 30 Jan 2025) EndedAt: 2025-01-30 16:51:28 -0500 (Thu, 30 Jan 2025) EllapsedTime: 65.3 seconds RetCode: 0 Status: OK