Package: CiteFuse Version: 1.18.0 Command: /home/biocbuild/R/R/bin/R CMD INSTALL CiteFuse StartedAt: 2025-02-03 21:17:57 -0000 (Mon, 03 Feb 2025) EndedAt: 2025-02-03 21:18:58 -0000 (Mon, 03 Feb 2025) EllapsedTime: 61.0 seconds RetCode: 0 Status: OK