Package: ClassifyR Version: 3.10.6 Command: /home/biocbuild/bbs-3.20-bioc/R/bin/R CMD build --keep-empty-dirs --no-resave-data --md5 ClassifyR StartedAt: 2025-02-03 16:50:57 -0500 (Mon, 03 Feb 2025) EndedAt: 2025-02-03 16:52:41 -0500 (Mon, 03 Feb 2025) EllapsedTime: 104.1 seconds RetCode: 0 Status: OK PackageFile: ClassifyR_3.10.6.tar.gz PackageFileSize: 2.414 MiB