Package: ClassifyR Version: 3.10.6 Command: chmod a+r ClassifyR -R && F:\biocbuild\bbs-3.20-bioc\R\bin\R.exe CMD build --keep-empty-dirs --no-resave-data ClassifyR StartedAt: 2025-02-03 18:09:57 -0500 (Mon, 03 Feb 2025) EndedAt: 2025-02-03 18:15:10 -0500 (Mon, 03 Feb 2025) EllapsedTime: 313.0 seconds RetCode: 0 Status: OK PackageFile: ClassifyR_3.10.6.tar.gz PackageFileSize: 1.937 MiB