Package: ClassifyR Version: 3.10.6 Command: F:\biocbuild\bbs-3.20-bioc\R\bin\R.exe CMD check --no-multiarch --install=check:ClassifyR.install-out.txt --library=F:\biocbuild\bbs-3.20-bioc\R\library --no-vignettes --timings ClassifyR_3.10.6.tar.gz StartedAt: 2025-02-04 00:18:33 -0500 (Tue, 04 Feb 2025) EndedAt: 2025-02-04 00:25:50 -0500 (Tue, 04 Feb 2025) EllapsedTime: 436.9 seconds RetCode: 0 Status: WARNINGS CheckDir: ClassifyR.Rcheck Warnings: 1