Package: ClassifyR Version: 3.10.6 Command: /home/biocbuild/R/R/bin/R CMD build --keep-empty-dirs --no-resave-data ClassifyR StartedAt: 2025-02-03 22:37:14 -0000 (Mon, 03 Feb 2025) EndedAt: 2025-02-03 22:39:44 -0000 (Mon, 03 Feb 2025) EllapsedTime: 149.7 seconds RetCode: 0 Status: OK PackageFile: ClassifyR_3.10.6.tar.gz PackageFileSize: 2.077 MiB