Package: ClassifyR Version: 3.10.6 Command: /home/biocbuild/R/R/bin/R CMD check --install=check:ClassifyR.install-out.txt --library=/home/biocbuild/R/R/site-library --no-vignettes --timings ClassifyR_3.10.6.tar.gz StartedAt: 2025-02-04 05:38:32 -0000 (Tue, 04 Feb 2025) EndedAt: 2025-02-04 05:44:32 -0000 (Tue, 04 Feb 2025) EllapsedTime: 359.3 seconds RetCode: 0 Status: WARNINGS CheckDir: ClassifyR.Rcheck Warnings: 1