Package: CleanUpRNAseq Version: 1.0.0 Command: /home/biocbuild/bbs-3.20-bioc/R/bin/R CMD check --install=check:CleanUpRNAseq.install-out.txt --library=/home/biocbuild/bbs-3.20-bioc/R/site-library --timings CleanUpRNAseq_1.0.0.tar.gz StartedAt: 2025-02-03 21:00:52 -0500 (Mon, 03 Feb 2025) EndedAt: 2025-02-03 21:06:42 -0500 (Mon, 03 Feb 2025) EllapsedTime: 349.4 seconds RetCode: 0 Status: OK CheckDir: CleanUpRNAseq.Rcheck Warnings: 0