Package: CleanUpRNAseq Version: 1.0.0 Command: F:\biocbuild\bbs-3.20-bioc\R\bin\R.exe CMD check --no-multiarch --install=check:CleanUpRNAseq.install-out.txt --library=F:\biocbuild\bbs-3.20-bioc\R\library --no-vignettes --timings CleanUpRNAseq_1.0.0.tar.gz StartedAt: 2025-02-11 00:15:05 -0500 (Tue, 11 Feb 2025) EndedAt: 2025-02-11 00:21:33 -0500 (Tue, 11 Feb 2025) EllapsedTime: 387.7 seconds RetCode: 0 Status: OK CheckDir: CleanUpRNAseq.Rcheck Warnings: 0