Package: CleanUpRNAseq Version: 1.0.0 Command: F:\biocbuild\bbs-3.20-bioc\R\bin\R.exe CMD INSTALL CleanUpRNAseq StartedAt: 2025-02-10 16:46:08 -0500 (Mon, 10 Feb 2025) EndedAt: 2025-02-10 16:47:15 -0500 (Mon, 10 Feb 2025) EllapsedTime: 67.8 seconds RetCode: 0 Status: OK