Package: CleanUpRNAseq Version: 1.0.0 Command: /home/biocbuild/R/R/bin/R CMD INSTALL CleanUpRNAseq StartedAt: 2025-02-03 21:10:02 -0000 (Mon, 03 Feb 2025) EndedAt: 2025-02-03 21:10:57 -0000 (Mon, 03 Feb 2025) EllapsedTime: 55.0 seconds RetCode: 0 Status: OK