Package: Clomial Version: 1.42.0 Command: /Library/Frameworks/R.framework/Resources/bin/R CMD build --keep-empty-dirs --no-resave-data Clomial StartedAt: 2025-02-03 17:55:25 -0500 (Mon, 03 Feb 2025) EndedAt: 2025-02-03 17:56:19 -0500 (Mon, 03 Feb 2025) EllapsedTime: 53.8 seconds RetCode: 0 Status: OK PackageFile: Clomial_1.42.0.tar.gz PackageFileSize: 1.461 MiB