Package: Clomial Version: 1.42.0 Command: /home/biocbuild/bbs-3.20-bioc/R/bin/R CMD check --install=check:Clomial.install-out.txt --library=/home/biocbuild/bbs-3.20-bioc/R/site-library --timings Clomial_1.42.0.tar.gz StartedAt: 2025-02-03 21:03:08 -0500 (Mon, 03 Feb 2025) EndedAt: 2025-02-03 21:04:45 -0500 (Mon, 03 Feb 2025) EllapsedTime: 97.1 seconds RetCode: 0 Status: OK CheckDir: Clomial.Rcheck Warnings: 0