Package: Clomial Version: 1.42.0 Command: rm -rf Clomial.buildbin-libdir && mkdir Clomial.buildbin-libdir && F:\biocbuild\bbs-3.20-bioc\R\bin\R.exe CMD INSTALL --build --library=Clomial.buildbin-libdir Clomial_1.42.0.tar.gz StartedAt: 2025-02-04 08:13:07 -0500 (Tue, 04 Feb 2025) EndedAt: 2025-02-04 08:13:15 -0500 (Tue, 04 Feb 2025) EllapsedTime: 7.6 seconds RetCode: 0 Status: OK PackageFile: Clomial_1.42.0.zip PackageFileSize: 1.42 MiB