Package: Clomial Version: 1.42.0 Command: chmod a+r Clomial -R && F:\biocbuild\bbs-3.20-bioc\R\bin\R.exe CMD build --keep-empty-dirs --no-resave-data Clomial StartedAt: 2025-02-03 18:11:25 -0500 (Mon, 03 Feb 2025) EndedAt: 2025-02-03 18:11:55 -0500 (Mon, 03 Feb 2025) EllapsedTime: 30.5 seconds RetCode: 0 Status: OK PackageFile: Clomial_1.42.0.tar.gz PackageFileSize: 1.353 MiB