Package: Clomial Version: 1.42.0 Command: /home/biocbuild/R/R/bin/R CMD build --keep-empty-dirs --no-resave-data Clomial StartedAt: 2025-02-10 22:29:15 -0000 (Mon, 10 Feb 2025) EndedAt: 2025-02-10 22:29:36 -0000 (Mon, 10 Feb 2025) EllapsedTime: 21.0 seconds RetCode: 0 Status: OK PackageFile: Clomial_1.42.0.tar.gz PackageFileSize: 1.454 MiB