Package: ClustAll Version: 1.2.0 Command: /Library/Frameworks/R.framework/Resources/bin/R CMD check --install=check:ClustAll.install-out.txt --library=/Library/Frameworks/R.framework/Resources/library --no-vignettes --timings ClustAll_1.2.0.tar.gz StartedAt: 2025-02-11 14:50:13 -0500 (Tue, 11 Feb 2025) EndedAt: 2025-02-11 14:54:14 -0500 (Tue, 11 Feb 2025) EllapsedTime: 240.9 seconds RetCode: 0 Status: OK CheckDir: ClustAll.Rcheck Warnings: 0