Package: ClustAll Version: 1.2.0 Command: /home/biocbuild/R/R/bin/R CMD check --install=check:ClustAll.install-out.txt --library=/home/biocbuild/R/R/site-library --no-vignettes --timings ClustAll_1.2.0.tar.gz StartedAt: 2025-02-04 05:42:43 -0000 (Tue, 04 Feb 2025) EndedAt: 2025-02-04 05:46:49 -0000 (Tue, 04 Feb 2025) EllapsedTime: 246.3 seconds RetCode: 0 Status: OK CheckDir: ClustAll.Rcheck Warnings: 0