Package: ClustIRR Version: 1.4.0 Command: /Library/Frameworks/R.framework/Resources/bin/R CMD build --keep-empty-dirs --no-resave-data ClustIRR StartedAt: 2025-02-03 17:57:23 -0500 (Mon, 03 Feb 2025) EndedAt: 2025-02-03 18:11:18 -0500 (Mon, 03 Feb 2025) EllapsedTime: 835.0 seconds RetCode: 0 Status: OK PackageFile: ClustIRR_1.4.0.tar.gz PackageFileSize: 2.574 MiB