Package: ClustIRR Version: 1.4.0 Command: /Library/Frameworks/R.framework/Resources/bin/R CMD INSTALL ClustIRR StartedAt: 2025-02-03 16:00:38 -0500 (Mon, 03 Feb 2025) EndedAt: 2025-02-03 16:06:02 -0500 (Mon, 03 Feb 2025) EllapsedTime: 323.8 seconds RetCode: 0 Status: OK