Package: ClustIRR Version: 1.4.0 Command: /home/biocbuild/bbs-3.20-bioc/R/bin/R CMD build --keep-empty-dirs --no-resave-data --md5 ClustIRR StartedAt: 2025-01-30 16:44:04 -0500 (Thu, 30 Jan 2025) EndedAt: 2025-01-30 16:52:13 -0500 (Thu, 30 Jan 2025) EllapsedTime: 488.5 seconds RetCode: 0 Status: OK PackageFile: ClustIRR_1.4.0.tar.gz PackageFileSize: 2.837 MiB