Package: ClustIRR Version: 1.4.0 Command: /home/biocbuild/R/R/bin/R CMD build --keep-empty-dirs --no-resave-data ClustIRR StartedAt: 2025-02-03 22:41:15 -0000 (Mon, 03 Feb 2025) EndedAt: 2025-02-03 22:53:20 -0000 (Mon, 03 Feb 2025) EllapsedTime: 725.3 seconds RetCode: 0 Status: OK PackageFile: ClustIRR_1.4.0.tar.gz PackageFileSize: 2.536 MiB