Package: ClustIRR Version: 1.4.0 Command: /home/biocbuild/R/R/bin/R CMD check --install=check:ClustIRR.install-out.txt --library=/home/biocbuild/R/R/site-library --no-vignettes --timings ClustIRR_1.4.0.tar.gz StartedAt: 2025-02-04 05:44:50 -0000 (Tue, 04 Feb 2025) EndedAt: 2025-02-04 05:57:55 -0000 (Tue, 04 Feb 2025) EllapsedTime: 785.7 seconds RetCode: 0 Status: WARNINGS CheckDir: ClustIRR.Rcheck Warnings: 1