Package: ClusterFoldSimilarity Version: 1.2.0 Command: /Library/Frameworks/R.framework/Resources/bin/R CMD build --keep-empty-dirs --no-resave-data ClusterFoldSimilarity StartedAt: 2025-01-30 18:01:22 -0500 (Thu, 30 Jan 2025) EndedAt: 2025-01-30 18:17:49 -0500 (Thu, 30 Jan 2025) EllapsedTime: 986.8 seconds RetCode: 0 Status: OK PackageFile: ClusterFoldSimilarity_1.2.0.tar.gz PackageFileSize: 1.679 MiB