Package: ClusterFoldSimilarity Version: 1.2.0 Command: /Library/Frameworks/R.framework/Resources/bin/R CMD check --install=check:ClusterFoldSimilarity.install-out.txt --library=/Library/Frameworks/R.framework/Resources/library --no-vignettes --timings ClusterFoldSimilarity_1.2.0.tar.gz StartedAt: 2025-01-31 01:45:19 -0500 (Fri, 31 Jan 2025) EndedAt: 2025-01-31 01:54:32 -0500 (Fri, 31 Jan 2025) EllapsedTime: 553.2 seconds RetCode: 0 Status: WARNINGS CheckDir: ClusterFoldSimilarity.Rcheck Warnings: 1