Package: ClusterFoldSimilarity Version: 1.2.0 Command: /home/biocbuild/bbs-3.20-bioc/R/bin/R CMD INSTALL ClusterFoldSimilarity StartedAt: 2025-01-30 15:48:47 -0500 (Thu, 30 Jan 2025) EndedAt: 2025-01-30 15:49:29 -0500 (Thu, 30 Jan 2025) EllapsedTime: 42.2 seconds RetCode: 0 Status: OK