Package: ClusterFoldSimilarity Version: 1.2.0 Command: rm -rf ClusterFoldSimilarity.buildbin-libdir && mkdir ClusterFoldSimilarity.buildbin-libdir && F:\biocbuild\bbs-3.20-bioc\R\bin\R.exe CMD INSTALL --build --library=ClusterFoldSimilarity.buildbin-libdir ClusterFoldSimilarity_1.2.0.tar.gz StartedAt: 2025-01-31 08:23:31 -0500 (Fri, 31 Jan 2025) EndedAt: 2025-01-31 08:26:38 -0500 (Fri, 31 Jan 2025) EllapsedTime: 186.1 seconds RetCode: 0 Status: OK PackageFile: ClusterFoldSimilarity_1.2.0.zip PackageFileSize: 892.2 KiB