Package: ClusterFoldSimilarity Version: 1.2.0 Command: chmod a+r ClusterFoldSimilarity -R && F:\biocbuild\bbs-3.20-bioc\R\bin\R.exe CMD build --keep-empty-dirs --no-resave-data ClusterFoldSimilarity StartedAt: 2025-01-30 17:59:27 -0500 (Thu, 30 Jan 2025) EndedAt: 2025-01-30 18:12:14 -0500 (Thu, 30 Jan 2025) EllapsedTime: 767.4 seconds RetCode: 0 Status: OK PackageFile: ClusterFoldSimilarity_1.2.0.tar.gz PackageFileSize: 862.1 KiB