Package: ClusterFoldSimilarity Version: 1.2.0 Command: /home/biocbuild/R/R/bin/R CMD build --keep-empty-dirs --no-resave-data ClusterFoldSimilarity StartedAt: 2025-01-30 22:41:28 -0000 (Thu, 30 Jan 2025) EndedAt: 2025-01-30 22:53:37 -0000 (Thu, 30 Jan 2025) EllapsedTime: 729.3 seconds RetCode: 0 Status: OK PackageFile: ClusterFoldSimilarity_1.2.0.tar.gz PackageFileSize: 833 KiB