Package: ClusterFoldSimilarity Version: 1.2.0 Command: /home/biocbuild/R/R/bin/R CMD INSTALL ClusterFoldSimilarity StartedAt: 2025-01-30 20:55:35 -0000 (Thu, 30 Jan 2025) EndedAt: 2025-01-30 20:56:19 -0000 (Thu, 30 Jan 2025) EllapsedTime: 44.1 seconds RetCode: 0 Status: OK