Package: CoCiteStats Version: 1.78.0 Command: rm -rf CoCiteStats.buildbin-libdir && mkdir CoCiteStats.buildbin-libdir && /Users/biocbuild/BBS/utils/build-universal.sh CoCiteStats_1.78.0.tar.gz /Library/Frameworks/R.framework/Resources/bin/R CoCiteStats.buildbin-libdir StartedAt: 2025-02-05 15:18:49 -0500 (Wed, 05 Feb 2025) EndedAt: 2025-02-05 15:19:06 -0500 (Wed, 05 Feb 2025) EllapsedTime: 16.9 seconds RetCode: 0 Status: OK PackageFile: CoCiteStats_1.78.0.tgz PackageFileSize: 31.63 KiB