Package: CoCiteStats Version: 1.78.0 Command: /Library/Frameworks/R.framework/Resources/bin/R CMD check --install=check:CoCiteStats.install-out.txt --library=/Library/Frameworks/R.framework/Resources/library --no-vignettes --timings CoCiteStats_1.78.0.tar.gz StartedAt: 2025-02-04 15:28:49 -0500 (Tue, 04 Feb 2025) EndedAt: 2025-02-04 15:34:23 -0500 (Tue, 04 Feb 2025) EllapsedTime: 334.0 seconds RetCode: 0 Status: OK CheckDir: CoCiteStats.Rcheck Warnings: 0