Package: CoCiteStats Version: 1.78.0 Command: /Library/Frameworks/R.framework/Resources/bin/R CMD build --keep-empty-dirs --no-resave-data CoCiteStats StartedAt: 2025-02-10 17:54:28 -0500 (Mon, 10 Feb 2025) EndedAt: 2025-02-10 17:54:31 -0500 (Mon, 10 Feb 2025) EllapsedTime: 2.2 seconds RetCode: 0 Status: OK PackageFile: CoCiteStats_1.78.0.tar.gz PackageFileSize: 5.348 KiB