Package: CoGAPS Version: 3.26.0 Command: /Library/Frameworks/R.framework/Resources/bin/R CMD build --keep-empty-dirs --no-resave-data CoGAPS StartedAt: 2025-02-10 17:54:37 -0500 (Mon, 10 Feb 2025) EndedAt: 2025-02-10 17:58:21 -0500 (Mon, 10 Feb 2025) EllapsedTime: 224.0 seconds RetCode: 0 Status: OK PackageFile: CoGAPS_3.26.0.tar.gz PackageFileSize: 19.9 MiB