Package: CoGAPS Version: 3.26.0 Command: /Library/Frameworks/R.framework/Resources/bin/R CMD check --install=check:CoGAPS.install-out.txt --library=/Library/Frameworks/R.framework/Resources/library --no-vignettes --timings CoGAPS_3.26.0.tar.gz StartedAt: 2025-02-11 01:27:10 -0500 (Tue, 11 Feb 2025) EndedAt: 2025-02-11 01:36:07 -0500 (Tue, 11 Feb 2025) EllapsedTime: 537.1 seconds RetCode: 0 Status: OK CheckDir: CoGAPS.Rcheck Warnings: 0