Package: CoGAPS Version: 3.26.0 Command: /home/biocbuild/bbs-3.20-bioc/R/bin/R CMD INSTALL CoGAPS StartedAt: 2025-02-03 15:54:15 -0500 (Mon, 03 Feb 2025) EndedAt: 2025-02-03 15:56:06 -0500 (Mon, 03 Feb 2025) EllapsedTime: 110.8 seconds RetCode: 0 Status: OK